BEGIN:VCALENDAR
VERSION:2.0
PRODID:-//eventon.com NONSGML v1.0//EN
CALSCALE:GREGORIAN
METHOD:PUBLISH
BEGIN:VEVENT
UID:69e5a623b9d6a
DTSTAMP:20260420T040555Z
DTSTART:20240704T080000Z
DTEND:20240704T120000Z
LOCATION:
SUMMARY:Fourth of July - Warroad
DESCRIPTION:\nhttps://goroseau.com/events/fourth-of-july-warroad/
URL:https://goroseau.com/events/fourth-of-july-warroad/
END:VEVENT
END:VCALENDAR