BEGIN:VCALENDAR
VERSION:2.0
PRODID:-//eventon.com NONSGML v1.0//EN
CALSCALE:GREGORIAN
METHOD:PUBLISH
BEGIN:VEVENT
UID:69e5e14949f96
DTSTAMP:20260420T081817Z
DTSTART:20260415T180000Z
DTEND:20260415T190000Z
LOCATION:Warroad Summer Theater 510 Cedar Ave NW
SUMMARY:Doug Ohman| America's 250
DESCRIPTION:\nhttps://goroseau.com/events/americas-250-doug-ohman/
URL:https://goroseau.com/events/americas-250-doug-ohman/
END:VEVENT
END:VCALENDAR